BEGIN:VCALENDAR
VERSION:2.0
PRODID: -//CMS 5.0 //NONSGML //DE
BEGIN:VEVENT
SUMMARY:Kinderkirche
DESCRIPTION:An diesem Tag findet die Veranstaltung "Kinderkirche" in Sar
 stedt statt. Weitere Informationen erfolgen über die Lehrer/innen in d
 en Gemeinden.\n\n\n\nhttps://bezirk-hildesheim.nak-nordost.de/db/573788
UID:573788@bezirk-hildesheim.nak-nordost.de
LOCATION:Dirk Ballosch
CATEGORIES:Kinder,Kirchenbezirk Hildesheim (Alle Gemeinden)
X-ORGANIZER:
STATUS:CONFIRMED
CLASS:PUBLIC
DTSTART:20261129T090000Z
DTEND:20261129T090000Z
DTSTAMP:20260424T073956Z
CREATED:20260111T154652Z
LAST-MODIFIED:20260113T221800Z
BEGIN:VALARM
UID:CA1B6C3E-3FB0-11F1-AE5A-5BEC75372A87
TRIGGER:-PT60M
ACTION:DISPLAY
DESCRIPTION:SUMMARY:Kinderkirche
END:VALARM
END:VEVENT
END:VCALENDAR
